BEGIN:VCALENDAR
VERSION:2.0
PRODID:-//Georg&#039;s Blog v3 - ECPv6.15.20//NONSGML v1.0//EN
CALSCALE:GREGORIAN
METHOD:PUBLISH
X-ORIGINAL-URL:https://tenoronline.net
X-WR-CALDESC:Veranstaltungen für Georg&#039;s Blog v3
REFRESH-INTERVAL;VALUE=DURATION:PT1H
X-Robots-Tag:noindex
X-PUBLISHED-TTL:PT1H
BEGIN:VTIMEZONE
TZID:Europe/Berlin
BEGIN:DAYLIGHT
TZOFFSETFROM:+0100
TZOFFSETTO:+0200
TZNAME:CEST
DTSTART:20220327T010000
END:DAYLIGHT
BEGIN:STANDARD
TZOFFSETFROM:+0200
TZOFFSETTO:+0100
TZNAME:CET
DTSTART:20221030T010000
END:STANDARD
BEGIN:DAYLIGHT
TZOFFSETFROM:+0100
TZOFFSETTO:+0200
TZNAME:CEST
DTSTART:20230326T010000
END:DAYLIGHT
BEGIN:STANDARD
TZOFFSETFROM:+0200
TZOFFSETTO:+0100
TZNAME:CET
DTSTART:20231029T010000
END:STANDARD
BEGIN:DAYLIGHT
TZOFFSETFROM:+0100
TZOFFSETTO:+0200
TZNAME:CEST
DTSTART:20240331T010000
END:DAYLIGHT
BEGIN:STANDARD
TZOFFSETFROM:+0200
TZOFFSETTO:+0100
TZNAME:CET
DTSTART:20241027T010000
END:STANDARD
END:VTIMEZONE
BEGIN:VEVENT
DTSTART;TZID=Europe/Berlin:20230630T000000
DTEND;TZID=Europe/Berlin:20230702T235959
DTSTAMP:20260421T153940
CREATED:20230531T142701Z
LAST-MODIFIED:20230626T124359Z
UID:39250-1688083200-1688342399@tenoronline.net
SUMMARY:Treckertreffen Großheide/Berumerfehn 2023
DESCRIPTION:Der beliebte Treckerkorso beginnt Samstags um 16 Uhr.  \nWeitere Einzelheiten\, sowie ein Flyer und die Korso Strecke werden noch ergänzt.  \nAlle Angaben ohne Gewähr! Änderungen möglich! 
URL:https://tenoronline.net/veranstaltung/treckertreffen-grossheide-berumerfehn-2023
LOCATION:Kompaniehaus Berumerfehn\, Dorfstraße 35\, Großheide (Berumerfehn)\, 26532
CATEGORIES:Treckertreffen
END:VEVENT
END:VCALENDAR