BEGIN:VCALENDAR
VERSION:2.0
PRODID:-//Georg&#039;s Blog v3 - ECPv6.15.20//NONSGML v1.0//EN
CALSCALE:GREGORIAN
METHOD:PUBLISH
X-ORIGINAL-URL:https://tenoronline.net
X-WR-CALDESC:Veranstaltungen für Georg&#039;s Blog v3
REFRESH-INTERVAL;VALUE=DURATION:PT1H
X-Robots-Tag:noindex
X-PUBLISHED-TTL:PT1H
BEGIN:VTIMEZONE
TZID:Europe/Berlin
BEGIN:DAYLIGHT
TZOFFSETFROM:+0100
TZOFFSETTO:+0200
TZNAME:CEST
DTSTART:20220327T010000
END:DAYLIGHT
BEGIN:STANDARD
TZOFFSETFROM:+0200
TZOFFSETTO:+0100
TZNAME:CET
DTSTART:20221030T010000
END:STANDARD
BEGIN:DAYLIGHT
TZOFFSETFROM:+0100
TZOFFSETTO:+0200
TZNAME:CEST
DTSTART:20230326T010000
END:DAYLIGHT
BEGIN:STANDARD
TZOFFSETFROM:+0200
TZOFFSETTO:+0100
TZNAME:CET
DTSTART:20231029T010000
END:STANDARD
BEGIN:DAYLIGHT
TZOFFSETFROM:+0100
TZOFFSETTO:+0200
TZNAME:CEST
DTSTART:20240331T010000
END:DAYLIGHT
BEGIN:STANDARD
TZOFFSETFROM:+0200
TZOFFSETTO:+0100
TZNAME:CET
DTSTART:20241027T010000
END:STANDARD
END:VTIMEZONE
BEGIN:VEVENT
DTSTART;TZID=Europe/Berlin:20230922T153000
DTEND;TZID=Europe/Berlin:20230922T193000
DTSTAMP:20260421T134615
CREATED:20230706T111725Z
LAST-MODIFIED:20230706T111725Z
UID:46631-1695396600-1695411000@tenoronline.net
SUMMARY:Blutspendetermin in Hage am 22.9.2023
DESCRIPTION:
URL:https://tenoronline.net/veranstaltung/blutspendetermin-in-hage-am-22-9-2023
LOCATION:KGS Schulzentrum\, Bahnhofstraße 2a\, Hage\, 26524
CATEGORIES:Blutspenden
ATTACH;FMTTYPE=image/jpeg:https://tenoronline.net/wp-content/uploads/2023/07/357669128_961664348414400_7474926152130580811_n.jpg
END:VEVENT
END:VCALENDAR