BEGIN:VCALENDAR
VERSION:2.0
PRODID:-//Georg&#039;s Blog v3 - ECPv6.15.20//NONSGML v1.0//EN
CALSCALE:GREGORIAN
METHOD:PUBLISH
X-WR-CALNAME:Georg&#039;s Blog v3
X-ORIGINAL-URL:https://tenoronline.net
X-WR-CALDESC:Veranstaltungen für Georg&#039;s Blog v3
REFRESH-INTERVAL;VALUE=DURATION:PT1H
X-Robots-Tag:noindex
X-PUBLISHED-TTL:PT1H
BEGIN:VTIMEZONE
TZID:Europe/Berlin
BEGIN:DAYLIGHT
TZOFFSETFROM:+0100
TZOFFSETTO:+0200
TZNAME:CEST
DTSTART:20230326T010000
END:DAYLIGHT
BEGIN:STANDARD
TZOFFSETFROM:+0200
TZOFFSETTO:+0100
TZNAME:CET
DTSTART:20231029T010000
END:STANDARD
BEGIN:DAYLIGHT
TZOFFSETFROM:+0100
TZOFFSETTO:+0200
TZNAME:CEST
DTSTART:20240331T010000
END:DAYLIGHT
BEGIN:STANDARD
TZOFFSETFROM:+0200
TZOFFSETTO:+0100
TZNAME:CET
DTSTART:20241027T010000
END:STANDARD
BEGIN:DAYLIGHT
TZOFFSETFROM:+0100
TZOFFSETTO:+0200
TZNAME:CEST
DTSTART:20250330T010000
END:DAYLIGHT
BEGIN:STANDARD
TZOFFSETFROM:+0200
TZOFFSETTO:+0100
TZNAME:CET
DTSTART:20251026T010000
END:STANDARD
END:VTIMEZONE
BEGIN:VEVENT
DTSTART;TZID=Europe/Berlin:20240601T000000
DTEND;TZID=Europe/Berlin:20240602T235959
DTSTAMP:20260422T051424
CREATED:20240522T085624Z
LAST-MODIFIED:20240523T202542Z
UID:57995-1717200000-1717372799@tenoronline.net
SUMMARY:Oldtimer am Meer Norddeich 2024
DESCRIPTION:Oldtimer am Meer auf der Drachenweise in Norddeich.1.6.2024 von 11 Uhr bis 21 Uhr2.6.2024 von 11 Uhr bis 18 Uhr
URL:https://tenoronline.net/veranstaltung/oldtimer-am-meer-norddeich-2024
LOCATION:Norddeich/Drachenwiese\, Norden-Norddeich\, 26506
CATEGORIES:Oldtimertreffen
END:VEVENT
END:VCALENDAR