BEGIN:VCALENDAR
VERSION:2.0
PRODID:-//Georg&#039;s Blog v3 - ECPv6.15.20//NONSGML v1.0//EN
CALSCALE:GREGORIAN
METHOD:PUBLISH
X-WR-CALNAME:Georg&#039;s Blog v3
X-ORIGINAL-URL:https://tenoronline.net
X-WR-CALDESC:Veranstaltungen für Georg&#039;s Blog v3
REFRESH-INTERVAL;VALUE=DURATION:PT1H
X-Robots-Tag:noindex
X-PUBLISHED-TTL:PT1H
BEGIN:VTIMEZONE
TZID:Europe/Berlin
BEGIN:DAYLIGHT
TZOFFSETFROM:+0100
TZOFFSETTO:+0200
TZNAME:CEST
DTSTART:20230326T010000
END:DAYLIGHT
BEGIN:STANDARD
TZOFFSETFROM:+0200
TZOFFSETTO:+0100
TZNAME:CET
DTSTART:20231029T010000
END:STANDARD
BEGIN:DAYLIGHT
TZOFFSETFROM:+0100
TZOFFSETTO:+0200
TZNAME:CEST
DTSTART:20240331T010000
END:DAYLIGHT
BEGIN:STANDARD
TZOFFSETFROM:+0200
TZOFFSETTO:+0100
TZNAME:CET
DTSTART:20241027T010000
END:STANDARD
BEGIN:DAYLIGHT
TZOFFSETFROM:+0100
TZOFFSETTO:+0200
TZNAME:CEST
DTSTART:20250330T010000
END:DAYLIGHT
BEGIN:STANDARD
TZOFFSETFROM:+0200
TZOFFSETTO:+0100
TZNAME:CET
DTSTART:20251026T010000
END:STANDARD
END:VTIMEZONE
BEGIN:VEVENT
DTSTART;TZID=Europe/Berlin:20240615T190000
DTEND;TZID=Europe/Berlin:20240615T235900
DTSTAMP:20260422T081953
CREATED:20240606T135442Z
LAST-MODIFIED:20240610T152450Z
UID:58696-1718478000-1718495940@tenoronline.net
SUMMARY:Berumbur Rockt  15. Juni 2024
DESCRIPTION:Berumbur ROCKT am 15. Juni 2024 ab 19 Uhr auf dem Dörpplatz (Dorfplatz)\, Eintritt frei
URL:https://tenoronline.net/veranstaltung/berumbur-rockt-15-juni-2024
LOCATION:Dorfplatz Berumbur
CATEGORIES:Sonstiges
ATTACH;FMTTYPE=image/jpeg:https://tenoronline.net/wp-content/uploads/2024/06/Artikelbild-Berumbur-Rockt-Juni-2024.jpg
END:VEVENT
END:VCALENDAR