BEGIN:VCALENDAR
VERSION:2.0
PRODID:-//Georg&#039;s Blog v3 - ECPv6.15.20//NONSGML v1.0//EN
CALSCALE:GREGORIAN
METHOD:PUBLISH
X-ORIGINAL-URL:https://tenoronline.net
X-WR-CALDESC:Veranstaltungen für Georg&#039;s Blog v3
REFRESH-INTERVAL;VALUE=DURATION:PT1H
X-Robots-Tag:noindex
X-PUBLISHED-TTL:PT1H
BEGIN:VTIMEZONE
TZID:Europe/Berlin
BEGIN:DAYLIGHT
TZOFFSETFROM:+0100
TZOFFSETTO:+0200
TZNAME:CEST
DTSTART:20230326T010000
END:DAYLIGHT
BEGIN:STANDARD
TZOFFSETFROM:+0200
TZOFFSETTO:+0100
TZNAME:CET
DTSTART:20231029T010000
END:STANDARD
BEGIN:DAYLIGHT
TZOFFSETFROM:+0100
TZOFFSETTO:+0200
TZNAME:CEST
DTSTART:20240331T010000
END:DAYLIGHT
BEGIN:STANDARD
TZOFFSETFROM:+0200
TZOFFSETTO:+0100
TZNAME:CET
DTSTART:20241027T010000
END:STANDARD
BEGIN:DAYLIGHT
TZOFFSETFROM:+0100
TZOFFSETTO:+0200
TZNAME:CEST
DTSTART:20250330T010000
END:DAYLIGHT
BEGIN:STANDARD
TZOFFSETFROM:+0200
TZOFFSETTO:+0100
TZNAME:CET
DTSTART:20251026T010000
END:STANDARD
END:VTIMEZONE
BEGIN:VEVENT
DTSTART;TZID=Europe/Berlin:20240705T100000
DTEND;TZID=Europe/Berlin:20240707T180000
DTSTAMP:20260422T082039
CREATED:20240614T090939Z
LAST-MODIFIED:20240614T090945Z
UID:53955-1720173600-1720375200@tenoronline.net
SUMMARY:Treckertreffen/Oldtimertreffen Berumerfehn Juli 2024
DESCRIPTION:
URL:https://tenoronline.net/veranstaltung/treckertreffen-oldtimertreffen-berumerfehn-juli-2024
LOCATION:Kompaniehaus Berumerfehn\, Dorfstraße 35\, Großheide (Berumerfehn)\, 26532
CATEGORIES:Oldtimertreffen
ATTACH;FMTTYPE=image/jpeg:https://tenoronline.net/wp-content/uploads/2024/02/Treckerkorso-Berumerfehner-Treckerfreunde-Grossheide-1.7.2023-3.jpg
END:VEVENT
END:VCALENDAR