BEGIN:VCALENDAR
VERSION:2.0
PRODID:-//Georg&#039;s Blog v3 - ECPv6.15.20//NONSGML v1.0//EN
CALSCALE:GREGORIAN
METHOD:PUBLISH
X-ORIGINAL-URL:https://tenoronline.net
X-WR-CALDESC:Veranstaltungen für Georg&#039;s Blog v3
REFRESH-INTERVAL;VALUE=DURATION:PT1H
X-Robots-Tag:noindex
X-PUBLISHED-TTL:PT1H
BEGIN:VTIMEZONE
TZID:Europe/Berlin
BEGIN:DAYLIGHT
TZOFFSETFROM:+0100
TZOFFSETTO:+0200
TZNAME:CEST
DTSTART:20230326T010000
END:DAYLIGHT
BEGIN:STANDARD
TZOFFSETFROM:+0200
TZOFFSETTO:+0100
TZNAME:CET
DTSTART:20231029T010000
END:STANDARD
BEGIN:DAYLIGHT
TZOFFSETFROM:+0100
TZOFFSETTO:+0200
TZNAME:CEST
DTSTART:20240331T010000
END:DAYLIGHT
BEGIN:STANDARD
TZOFFSETFROM:+0200
TZOFFSETTO:+0100
TZNAME:CET
DTSTART:20241027T010000
END:STANDARD
BEGIN:DAYLIGHT
TZOFFSETFROM:+0100
TZOFFSETTO:+0200
TZNAME:CEST
DTSTART:20250330T010000
END:DAYLIGHT
BEGIN:STANDARD
TZOFFSETFROM:+0200
TZOFFSETTO:+0100
TZNAME:CET
DTSTART:20251026T010000
END:STANDARD
END:VTIMEZONE
BEGIN:VEVENT
DTSTART;TZID=Europe/Berlin:20240809T000000
DTEND;TZID=Europe/Berlin:20240812T235959
DTSTAMP:20260422T095233
CREATED:20240809T071439Z
LAST-MODIFIED:20240809T071440Z
UID:63639-1723161600-1723507199@tenoronline.net
SUMMARY:Norder Sommermarkt 2024
DESCRIPTION:Der Sommermarkt in Norden ist eine langjährige Veranstaltung\, die Jahr für Jahr zahlreiche Besucher anzieht. Die Zusammenarbeit mit dem Verein Reisender Schausteller Ostfriesland garantiert ein abwechslungsreiches Programm für die ganze Familie. Wir laden alle herzlich ein\, den Sommermarkt auch in diesem Jahr wieder in Norden zu besuchen und gemeinsam tolle Tage voller Freude und Unterhaltung zu erleben. \n\n\n\nSommermarkt Plakat 2024 © Stadt Norden 2024
URL:https://tenoronline.net/veranstaltung/norder-sommermarkt-2024
LOCATION:Historischer Marktplatz Norden\, zwischen Rathaus und Ludgerikirche\, Am Markt 15\, Norden\, 26506\, Deutschland
CATEGORIES:Jahrmarkt
ATTACH;FMTTYPE=image/jpeg:https://tenoronline.net/wp-content/uploads/2024/08/Plakat-Sommermarkt-Stadt-Norden-2024.jpg
END:VEVENT
BEGIN:VEVENT
DTSTART;TZID=Europe/Berlin:20240809T100000
DTEND;TZID=Europe/Berlin:20240811T210000
DTSTAMP:20260422T095233
CREATED:20240205T195957Z
LAST-MODIFIED:20240806T075252Z
UID:53898-1723197600-1723410000@tenoronline.net
SUMMARY:Oldtimertreffen (Treckertreffen) Norden/Westermarsch August 2024
DESCRIPTION:
URL:https://tenoronline.net/veranstaltung/oldtimertreffen-treckertreffen-norden-westermarsch-august-2024
LOCATION:Altendeichsweg\, 26506 Norden (auf dem ehemaligen Sportplatz)
CATEGORIES:Oldtimertreffen
ATTACH;FMTTYPE=image/jpeg:https://tenoronline.net/wp-content/uploads/2024/02/Treckertreffen-Oldtimertreffen-Westermarscher-Treckerfreunde-Westermarsch-Norden-Samstag-12.8.2023-96.jpg
END:VEVENT
BEGIN:VEVENT
DTSTART;TZID=Europe/Berlin:20240810T100000
DTEND;TZID=Europe/Berlin:20240811T180000
DTSTAMP:20260422T095233
CREATED:20240606T123241Z
LAST-MODIFIED:20240606T123242Z
UID:58668-1723284000-1723399200@tenoronline.net
SUMMARY:Norden - 3. Oldtimertreffen  beim Automobil- & Spielzeugmuseum Nordsee im August 2024
DESCRIPTION:Das Oldtimertreffen Norddeich geht in die 3. Runde! \n\n\n\nAuf 2 Tage verteilt bieten wir kostenlose Parkplätze für knapp 1000 Fahrzeuge.Willkommen sind Oldtimer\, Youngtimer\, Exoten\, Traktoren und alles was cool ist.Flohmarkt und Teilemarkt.( ohne Anmeldung an die Verkäufer)Für essen und trinken ist gesorgt.Und die Kinder werden auch toll unterhalten!Dieses Jahr wieder mit Flohmarkt. \n\n\n\nWir freuen uns auf euch! \n\n\n\nEuer Team vom Automuseum Nordsee
URL:https://tenoronline.net/veranstaltung/norden-3-oldtimertreffen-beim-automobil-spielzeugmuseum-nordsee-im-august-2024
LOCATION:Ostermarscher Str. 29\, 26506 Norden\, Ostermarscher Str.\, Norden\, 26506\, Deutschland
CATEGORIES:Oldtimertreffen
ATTACH;FMTTYPE=image/jpeg:https://tenoronline.net/wp-content/uploads/2024/06/Auto-Museum-Norden-Ostermarsch-Tor-Artikel-2024-1.jpg
END:VEVENT
END:VCALENDAR