BEGIN:VCALENDAR
VERSION:2.0
PRODID:-//Georg&#039;s Blog v3 - ECPv6.15.20//NONSGML v1.0//EN
CALSCALE:GREGORIAN
METHOD:PUBLISH
X-ORIGINAL-URL:https://tenoronline.net
X-WR-CALDESC:Veranstaltungen für Georg&#039;s Blog v3
REFRESH-INTERVAL;VALUE=DURATION:PT1H
X-Robots-Tag:noindex
X-PUBLISHED-TTL:PT1H
BEGIN:VTIMEZONE
TZID:Europe/Berlin
BEGIN:DAYLIGHT
TZOFFSETFROM:+0100
TZOFFSETTO:+0200
TZNAME:CEST
DTSTART:20230326T010000
END:DAYLIGHT
BEGIN:STANDARD
TZOFFSETFROM:+0200
TZOFFSETTO:+0100
TZNAME:CET
DTSTART:20231029T010000
END:STANDARD
BEGIN:DAYLIGHT
TZOFFSETFROM:+0100
TZOFFSETTO:+0200
TZNAME:CEST
DTSTART:20240331T010000
END:DAYLIGHT
BEGIN:STANDARD
TZOFFSETFROM:+0200
TZOFFSETTO:+0100
TZNAME:CET
DTSTART:20241027T010000
END:STANDARD
BEGIN:DAYLIGHT
TZOFFSETFROM:+0100
TZOFFSETTO:+0200
TZNAME:CEST
DTSTART:20250330T010000
END:DAYLIGHT
BEGIN:STANDARD
TZOFFSETFROM:+0200
TZOFFSETTO:+0100
TZNAME:CET
DTSTART:20251026T010000
END:STANDARD
END:VTIMEZONE
BEGIN:VEVENT
DTSTART;TZID=Europe/Berlin:20240823T000000
DTEND;TZID=Europe/Berlin:20240825T235959
DTSTAMP:20260422T095228
CREATED:20240606T131516Z
LAST-MODIFIED:20240606T131518Z
UID:58690-1724371200-1724630399@tenoronline.net
SUMMARY:Norden – Sommerfest und Straßenkunstfestival 2024
DESCRIPTION:Freitag\, 23.08.2024: Gartenkonzert bei der KreisvolkshochschuleBeginnen Sie das Sommerfest mit einem Gartenkonzert in der idyllischen Atmosphäre der Kreisvolkshochschule. Ab 19:00 Uhr erwartet Sie ein Abend voller Musik unter freiem Himmel. Genießen Sie die Klänge verschiedener regionaler Künstler*innen und lassen Sie sich von der entspannten Stimmung mitreißen. Ein perfekter Start in das Wochenende! \n\n\n\nSamstag und Sonntag\, 24.-25.08.2024: Straßenkunstfestival in der InnenstadtDas Herzstück des Sommerfests ist das bunte Straßenkunstfestival. Am Samstag und Sonntag verwandelt sich die Innenstadt in eine lebendige Bühne\, auf der verschiedene Künstlerinnen ihr Talent zum Besten geben. Ob Jongleur*innen\, Musiker*Innen\, Tänzer*innen oder Ballonkünstler*innen – an jeder Ecke gibt es etwas Neues zu entdecken.Zwischen den Schauplätzen laden zahlreiche Essens- und Getränkestände zum Verweilen und Genießen ein. Kosten Sie lokale Spezialitäten\, erfrischende Getränke und lassen Sie sich von den kulinarischen Köstlichkeiten verführen. Begleitend dazu gibt es stimmungsvolle Musik\, inspirierende Kunstausstellungen und einen charmanten Flohmarkt\, der zum Stöbern und Finden einlädt. \n\n\n\nSamstag\, 24.08.2024: Sommerfestparty auf dem Norder MarktplatzKrönen Sie den Samstagabend mit der Sommerfestparty auf dem Norder Torfmarkt! Von 19:00 Uhr bis Mitternacht sorgen verschiedene DJs für die richtige Partystimmung. Tanzen Sie unter freiem Himmel und feiern Sie gemeinsam mit Freund*innen und Familie den Sommer. Der Norder Marktplatz wird zum pulsierenden Zentrum des Festes – ein Muss für alle\, die das Leben und die Musik lieben. \n\n\n\nSonntag\, 25.08.2024: Kindersommerfest im Garten der KreisvolkshochschuleAm Sonntag von 11:00 bis 17:00 Uhr findet das fröhliche Kindersommerfest im Garten der Kreisvolkshochschule statt. Ein buntes Programm erwartet die kleinen Gäste: Auftritte der städtischen Kitas\, mitreißende Tanzgruppen und eine begeisternde Kinderband sorgen für beste Unterhaltung. Darüber hinaus gibt es viele weitere spannende Aktivitäten und Überraschungen\, die Kinderherzen höherschlagen lassen. Ein Tag voller Spaß und Freude für die ganze Familie! \n\n\n\nErleben Sie das Sommerfest 2024 – ein Wochenende voller Kunst\, Kultur und unvergesslicher Momente. Wir freuen uns auf Sie!
URL:https://tenoronline.net/veranstaltung/norden-sommerfest-und-strassenkunstfestival-2024
LOCATION:Marktplatz\, Norden\, 26506\, Deutschland
CATEGORIES:Sonstiges
ATTACH;FMTTYPE=image/png:https://tenoronline.net/wp-content/uploads/2024/06/Logo-Norder-Sommerfest-2024.png
END:VEVENT
BEGIN:VEVENT
DTSTART;TZID=Europe/Berlin:20240823T190000
DTEND;TZID=Europe/Berlin:20240823T233000
DTSTAMP:20260422T095228
CREATED:20240809T091159Z
LAST-MODIFIED:20240809T091202Z
UID:63730-1724439600-1724455800@tenoronline.net
SUMMARY:Norden- Gartenkonzert  bei der KVHS am 23.8.2024
DESCRIPTION:Einlass: ab 19 Uhr Eintritt: frei Vorband: The Metal Blues Band ab 19 Uhr Hauptband: Oliver Jüchems & Band 20 Uhr bis 0 Uhr
URL:https://tenoronline.net/veranstaltung/norden-gartenkonzert-bei-der-kvhs-am-23-8-2024
LOCATION:Kreisvolkshochschule Norden\, Uffenstraße 1\, Norden\, 26506\, Deutschland
CATEGORIES:Sonstiges
ATTACH;FMTTYPE=image/png:https://tenoronline.net/wp-content/uploads/2024/08/Norder-Sommerfest-Gartenkonzert-23.8.2ss24-Flyer.png
END:VEVENT
END:VCALENDAR