BEGIN:VCALENDAR
VERSION:2.0
PRODID:-//Georg&#039;s Blog v3 - ECPv6.15.20//NONSGML v1.0//EN
CALSCALE:GREGORIAN
METHOD:PUBLISH
X-WR-CALNAME:Georg&#039;s Blog v3
X-ORIGINAL-URL:https://tenoronline.net
X-WR-CALDESC:Veranstaltungen für Georg&#039;s Blog v3
REFRESH-INTERVAL;VALUE=DURATION:PT1H
X-Robots-Tag:noindex
X-PUBLISHED-TTL:PT1H
BEGIN:VTIMEZONE
TZID:Europe/Berlin
BEGIN:DAYLIGHT
TZOFFSETFROM:+0100
TZOFFSETTO:+0200
TZNAME:CEST
DTSTART:20230326T010000
END:DAYLIGHT
BEGIN:STANDARD
TZOFFSETFROM:+0200
TZOFFSETTO:+0100
TZNAME:CET
DTSTART:20231029T010000
END:STANDARD
BEGIN:DAYLIGHT
TZOFFSETFROM:+0100
TZOFFSETTO:+0200
TZNAME:CEST
DTSTART:20240331T010000
END:DAYLIGHT
BEGIN:STANDARD
TZOFFSETFROM:+0200
TZOFFSETTO:+0100
TZNAME:CET
DTSTART:20241027T010000
END:STANDARD
BEGIN:DAYLIGHT
TZOFFSETFROM:+0100
TZOFFSETTO:+0200
TZNAME:CEST
DTSTART:20250330T010000
END:DAYLIGHT
BEGIN:STANDARD
TZOFFSETFROM:+0200
TZOFFSETTO:+0100
TZNAME:CET
DTSTART:20251026T010000
END:STANDARD
END:VTIMEZONE
BEGIN:VEVENT
DTSTART;TZID=Europe/Berlin:20240914T100000
DTEND;TZID=Europe/Berlin:20240915T180000
DTSTAMP:20260422T114645
CREATED:20240610T073425Z
LAST-MODIFIED:20240610T073657Z
UID:58989-1726308000-1726423200@tenoronline.net
SUMMARY:Norden- Tag der Regionen – Westerstraßenfest 2024
DESCRIPTION:weitere Infos folgen…
URL:https://tenoronline.net/veranstaltung/norden-tag-der-regionen-westerstrassenfest-2024
LOCATION:Westerstraße\, 26506 Norden
CATEGORIES:Sonstiges
ATTACH;FMTTYPE=image/jpeg:https://tenoronline.net/wp-content/uploads/2024/06/Westerstrassenfest-Tag-der-Regionen-Stadt-Norden-Artikelbild-2024.jpg
END:VEVENT
END:VCALENDAR