BEGIN:VCALENDAR
VERSION:2.0
PRODID:-//Georg&#039;s Blog v3 - ECPv6.15.20//NONSGML v1.0//EN
CALSCALE:GREGORIAN
METHOD:PUBLISH
X-ORIGINAL-URL:https://tenoronline.net
X-WR-CALDESC:Veranstaltungen für Georg&#039;s Blog v3
REFRESH-INTERVAL;VALUE=DURATION:PT1H
X-Robots-Tag:noindex
X-PUBLISHED-TTL:PT1H
BEGIN:VTIMEZONE
TZID:Europe/Berlin
BEGIN:DAYLIGHT
TZOFFSETFROM:+0100
TZOFFSETTO:+0200
TZNAME:CEST
DTSTART:20230326T010000
END:DAYLIGHT
BEGIN:STANDARD
TZOFFSETFROM:+0200
TZOFFSETTO:+0100
TZNAME:CET
DTSTART:20231029T010000
END:STANDARD
BEGIN:DAYLIGHT
TZOFFSETFROM:+0100
TZOFFSETTO:+0200
TZNAME:CEST
DTSTART:20240331T010000
END:DAYLIGHT
BEGIN:STANDARD
TZOFFSETFROM:+0200
TZOFFSETTO:+0100
TZNAME:CET
DTSTART:20241027T010000
END:STANDARD
BEGIN:DAYLIGHT
TZOFFSETFROM:+0100
TZOFFSETTO:+0200
TZNAME:CEST
DTSTART:20250330T010000
END:DAYLIGHT
BEGIN:STANDARD
TZOFFSETFROM:+0200
TZOFFSETTO:+0100
TZNAME:CET
DTSTART:20251026T010000
END:STANDARD
END:VTIMEZONE
BEGIN:VEVENT
DTSTART;TZID=Europe/Berlin:20240705T100000
DTEND;TZID=Europe/Berlin:20240707T180000
DTSTAMP:20260422T065110
CREATED:20240614T090939Z
LAST-MODIFIED:20240614T090945Z
UID:53955-1720173600-1720375200@tenoronline.net
SUMMARY:Treckertreffen/Oldtimertreffen Berumerfehn Juli 2024
DESCRIPTION:
URL:https://tenoronline.net/veranstaltung/treckertreffen-oldtimertreffen-berumerfehn-juli-2024
LOCATION:Kompaniehaus Berumerfehn\, Dorfstraße 35\, Großheide (Berumerfehn)\, 26532
CATEGORIES:Oldtimertreffen
ATTACH;FMTTYPE=image/jpeg:https://tenoronline.net/wp-content/uploads/2024/02/Treckerkorso-Berumerfehner-Treckerfreunde-Grossheide-1.7.2023-3.jpg
END:VEVENT
BEGIN:VEVENT
DTSTART;TZID=Europe/Berlin:20240712T000000
DTEND;TZID=Europe/Berlin:20240714T235959
DTSTAMP:20260422T065110
CREATED:20240711T160804Z
LAST-MODIFIED:20240711T160812Z
UID:60826-1720742400-1721001599@tenoronline.net
SUMMARY:Treckertreffen/Oldtimertreffen Rechtsupweg im Juli 2024
DESCRIPTION:20 Jahre Die Freunde des Lanz-Bulldogs Rechtsupweg e.v.  \n\n\n\nDas Treckertreffen/Oldtimertreffen in Rechtsupweg findet vom 12. bis 14. Juli 2024 in der Kienholzstrasse 34\, 26529 Rechtsupweg statt.  \n\n\n\nFreitag:\n\n\n\num 19 Uhr Korso durch den Ortab 21 Uhr Party im Zelt \n\n\n\nSamstag\n\n\n\nab 10 Uhr darf gepflügt werdenab 21 Uhr Party im Zeltum 23 Uhr Nachtflügen  \n\n\n\nSonntag\n\n\n\nab 10 Uhr darf gepflügt werden
URL:https://tenoronline.net/veranstaltung/treckertreffen-oldtimertreffen-rechtsupweg-im-juli-2024
LOCATION:Ort:\, Kienholzstrasse 34\, Rechtsupweg\, 26529\, Deutschland
CATEGORIES:Treckertreffen
ATTACH;FMTTYPE=image/jpeg:https://tenoronline.net/wp-content/uploads/2024/07/Artikelbild-Treckertreffen-Freunde-des-Lanz-Bulldogs-Rechtsupweg-e.V-8.7.2023-35.jpg
END:VEVENT
BEGIN:VEVENT
DTSTART;TZID=Europe/Berlin:20240720T100000
DTEND;TZID=Europe/Berlin:20240721T030000
DTSTAMP:20260422T065110
CREATED:20240715T123910Z
LAST-MODIFIED:20240715T124637Z
UID:61461-1721469600-1721530800@tenoronline.net
SUMMARY:Hager Ortsfest Juli 2024
DESCRIPTION:Alle Angaben ohne Gewehr!  \n\n\n\n\n\n\n\n\n\n\n\n\n\n\n\n\n\n\n\n\n\n\n\n\n\n\nSchlagwörter: Bremswagen\, Neuschoo\, Ostfriesland\, Traktorpulling
URL:https://tenoronline.net/veranstaltung/hager-ortsfest-juli-2024
LOCATION:Samtgemeinde Hage\, Hage\, 26524
CATEGORIES:Ortsfest
ATTACH;FMTTYPE=image/jpeg:https://tenoronline.net/wp-content/uploads/2024/07/Flyer-Hager-Ortsfest-Buehnenprogramm-Juli-2024-2.jpg
END:VEVENT
BEGIN:VEVENT
DTSTART;TZID=Europe/Berlin:20240726T100000
DTEND;TZID=Europe/Berlin:20240728T220000
DTSTAMP:20260422T065110
CREATED:20240205T134546Z
LAST-MODIFIED:20240205T134549Z
UID:53893-1721988000-1722204000@tenoronline.net
SUMMARY:Norddeicher Feuerwehrtage 2024
DESCRIPTION:
URL:https://tenoronline.net/veranstaltung/norddeicher-feuerwehrtage-2024
LOCATION:Norddeich/Drachenwiese\, Norden-Norddeich\, 26506
CATEGORIES:Sonstiges
ATTACH;FMTTYPE=image/jpeg:https://tenoronline.net/wp-content/uploads/2024/02/Flyer-Norddeicher-Feuerwehrtage-2024.jpg
END:VEVENT
BEGIN:VEVENT
DTSTART;TZID=Europe/Berlin:20240727T100000
DTEND;TZID=Europe/Berlin:20240728T180000
DTSTAMP:20260422T065110
CREATED:20240204T125305Z
LAST-MODIFIED:20240524T100715Z
UID:53745-1722074400-1722189600@tenoronline.net
SUMMARY:2. Oldtimertreffen im Speedway Stadion Motodrom Halbemond 2024
DESCRIPTION:Das Oldtimer Team Halbemond lädt herzlich ein zum 2. Oldtimertreffen für die ganze Familie\, am 27. und 28.07.2024\, im Motodrom Halbemond.  Samstag ab 10 Uhr bis 22 Uhr\, Sonntag ab 11Uhr bis 17 Uhr. Wir freuen uns wieder auf‘s Klönen\, Freunde treffen\, Benzin Gespräche\, Feiern\, auf zahlreiche Oldtimer\, einige Youngtimer\, auf Speis und Trank und natürlich Musik! Oldtimervorstellung moderiert von dem einzigen deutschen Speedway-Weltmeister 1983 Egon Müller. Da wird es bestimmt auch wieder Autogramme geben. Musikalisch wird es am Samstag von 13 bis 15 Uhr mit der Country-Rock-Band SteamTrain aus Norden\, welche letztes Jahr das erste mal schon auf unserer Bühne standen. Elführtje am Sonntag mit dem Rock & Pop-Duo „Hey Brother“ aus Großefehn bis 13 Uhr. Anmeldung für Händler und Kontakt per Email: oldtimertreffen.halbemond@gmail.com Besucherparkplätze stehen gegen eine kleine Tagesgebühr zur Verfügung. Info für Aussteller und Händler: Die Anreise für ist schon am Freitag\, 26.07. möglich. Die Möglichkeit zum Camping besteht im Fahrerlager des Stadions. Weiter Informationen folgen. Euer Oldtimer Team Halbemond
URL:https://tenoronline.net/veranstaltung/2-oldtimertreffen-im-speedway-stadion-motodrom-halbemond-2024
LOCATION:Mc Norden Motodrom Halbemond\, Nadörsterstraße 27\, Halbemond\, 26524\, Deutschland
CATEGORIES:Oldtimertreffen
ATTACH;FMTTYPE=image/jpeg:https://tenoronline.net/wp-content/uploads/2024/02/Flyer-Oldtimertreffen-im-Speedway-Stadion-Halbemond-Juli-2024-1-e1707051138899.jpeg
END:VEVENT
END:VCALENDAR